Workbook

Sheet Insumos
A1: Insumo | B1: Unidade | C1: Fornecedor | D1: Curva (A, B ou C) | E1: Custo unitário de referência (R$) | F1: Consumo por dia | G1: Prazo de entrega (dias) | H1: Estoque de segurança | I1: Estoque máximo | J1: Ponto de pedido | K1: Estoque atual | L1: Situação | M1: Compra sugerida
A2: Muçarela | B2: kg | C2: Laticínio (exemplo) | D2: A | E2: 42 | F2: 6 | G2: 2 | H2: 4 | I2: 30 | J2: =F2*G2+H2 | K2: =SUMIFS('Movimentação'!$D$2:$D$1000,'Movimentação'!$B$2:$B$1000,A2,'Movimentação'!$C$2:$C$1000,"Entrada")-SUMIFS('Movimentação'!$D$2:$D$1000,'Movimentação'!$B$2:$B$1000,A2,'Movimentação'!$C$2:$C$1000,"Saída")-SUMIFS('Movimentação'!$D$2:$D$1000,'Movimentação'!$B$2:$B$1000,A2,'Movimentação'!$C$2:$C$1000,"Desperdício")+SUMIFS('Movimentação'!$D$2:$D$1000,'Movimentação'!$B$2:$B$1000,A2,'Movimentação'!$C$2:$C$1000,"Ajuste") | L2: =IF(K2<=J2,"Comprar","OK") | M2: =IF(K2<=J2,MAX(0,I2-K2),0)
A3: Farinha de trigo | B3: kg | C3: Atacado (exemplo) | D3: B | E3: 5 | F3: 10 | G3: 3 | H3: 10 | I3: 75 | J3: =F3*G3+H3 | K3: =SUMIFS('Movimentação'!$D$2:$D$1000,'Movimentação'!$B$2:$B$1000,A3,'Movimentação'!$C$2:$C$1000,"Entrada")-SUMIFS('Movimentação'!$D$2:$D$1000,'Movimentação'!$B$2:$B$1000,A3,'Movimentação'!$C$2:$C$1000,"Saída")-SUMIFS('Movimentação'!$D$2:$D$1000,'Movimentação'!$B$2:$B$1000,A3,'Movimentação'!$C$2:$C$1000,"Desperdício")+SUMIFS('Movimentação'!$D$2:$D$1000,'Movimentação'!$B$2:$B$1000,A3,'Movimentação'!$C$2:$C$1000,"Ajuste") | L3: =IF(K3<=J3,"Comprar","OK") | M3: =IF(K3<=J3,MAX(0,I3-K3),0)
A4: Tomate pelado | B4: lata | C4: Atacado (exemplo) | D4: B | E4: 18 | F4: 3 | G4: 3 | H4: 3 | I4: 24 | J4: =F4*G4+H4 | K4: =SUMIFS('Movimentação'!$D$2:$D$1000,'Movimentação'!$B$2:$B$1000,A4,'Movimentação'!$C$2:$C$1000,"Entrada")-SUMIFS('Movimentação'!$D$2:$D$1000,'Movimentação'!$B$2:$B$1000,A4,'Movimentação'!$C$2:$C$1000,"Saída")-SUMIFS('Movimentação'!$D$2:$D$1000,'Movimentação'!$B$2:$B$1000,A4,'Movimentação'!$C$2:$C$1000,"Desperdício")+SUMIFS('Movimentação'!$D$2:$D$1000,'Movimentação'!$B$2:$B$1000,A4,'Movimentação'!$C$2:$C$1000,"Ajuste") | L4: =IF(K4<=J4,"Comprar","OK") | M4: =IF(K4<=J4,MAX(0,I4-K4),0)
A5: Embalagem de pizza | B5: un | C5: Embalagens (exemplo) | D5: C | E5: 2 | F5: 40 | G5: 5 | H5: 40 | I5: 400 | J5: =F5*G5+H5 | K5: =SUMIFS('Movimentação'!$D$2:$D$1000,'Movimentação'!$B$2:$B$1000,A5,'Movimentação'!$C$2:$C$1000,"Entrada")-SUMIFS('Movimentação'!$D$2:$D$1000,'Movimentação'!$B$2:$B$1000,A5,'Movimentação'!$C$2:$C$1000,"Saída")-SUMIFS('Movimentação'!$D$2:$D$1000,'Movimentação'!$B$2:$B$1000,A5,'Movimentação'!$C$2:$C$1000,"Desperdício")+SUMIFS('Movimentação'!$D$2:$D$1000,'Movimentação'!$B$2:$B$1000,A5,'Movimentação'!$C$2:$C$1000,"Ajuste") | L5: =IF(K5<=J5,"Comprar","OK") | M5: =IF(K5<=J5,MAX(0,I5-K5),0)
A6: Óleo | B6: L | C6: Atacado (exemplo) | D6: C | E6: 9 | F6: 2 | G6: 3 | H6: 2 | I6: 18 | J6: =F6*G6+H6 | K6: =SUMIFS('Movimentação'!$D$2:$D$1000,'Movimentação'!$B$2:$B$1000,A6,'Movimentação'!$C$2:$C$1000,"Entrada")-SUMIFS('Movimentação'!$D$2:$D$1000,'Movimentação'!$B$2:$B$1000,A6,'Movimentação'!$C$2:$C$1000,"Saída")-SUMIFS('Movimentação'!$D$2:$D$1000,'Movimentação'!$B$2:$B$1000,A6,'Movimentação'!$C$2:$C$1000,"Desperdício")+SUMIFS('Movimentação'!$D$2:$D$1000,'Movimentação'!$B$2:$B$1000,A6,'Movimentação'!$C$2:$C$1000,"Ajuste") | L6: =IF(K6<=J6,"Comprar","OK") | M6: =IF(K6<=J6,MAX(0,I6-K6),0)
A8: Valores ilustrativos: troque os cinco exemplos pelos insumos do seu restaurante.

Sheet Movimentação
A1: Data | B1: Insumo | C1: Tipo (Entrada, Saída, Desperdício ou Ajuste) | D1: Quantidade | E1: Custo unitário (R$) | F1: Validade | G1: Observação
A2: 46266 | B2: Muçarela | C2: Entrada | D2: 20 | E2: 42 | F2: 46310 | G2: Nota do fornecedor
A3: 46266 | B3: Farinha de trigo | C3: Entrada | D3: 50 | E3: 5 | F3: 46402 | G3: Nota do fornecedor
A4: 46266 | B4: Tomate pelado | C4: Entrada | D4: 12 | E4: 18 | F4: 46568 | G4: Nota do fornecedor
A5: 46266 | B5: Embalagem de pizza | C5: Entrada | D5: 300 | E5: 2 | G5: Nota do fornecedor
A6: 46266 | B6: Óleo | C6: Entrada | D6: 10 | E6: 9 | F6: 46447 | G6: Nota do fornecedor
A7: 46267 | B7: Muçarela | C7: Saída | D7: 6 | G7: Vendas do dia
A8: 46267 | B8: Farinha de trigo | C8: Saída | D8: 10 | G8: Vendas do dia
A9: 46267 | B9: Muçarela | C9: Desperdício | D9: 1 | G9: Peça fora da temperatura
A11: Valores ilustrativos: apague estas linhas e lance os movimentos do seu restaurante.

Sheet Contagem
A1: Data | B1: Insumo | C1: No sistema | D1: Contado | E1: Diferença | F1: Diferença em R$
A2: 46268 | B2: Muçarela | C2: =IFERROR(INDEX('Insumos'!$K$2:$K$1000,MATCH(B2,'Insumos'!$A$2:$A$1000,0)),"") | D2: 12 | E2: =IF(D2="","",D2-C2) | F2: =IF(D2="","",E2*INDEX('Insumos'!$E$2:$E$1000,MATCH(B2,'Insumos'!$A$2:$A$1000,0)))
A4: Valores ilustrativos: apague esta linha e anote a sua contagem.

Sheet Como usar e fontes
A1: Planilha de controle de estoque do restaurante — Glutões
A2: Como usar
A3: 1. Na aba Insumos, cadastre cada insumo com unidade, fornecedor, curva, custo,
A4: consumo por dia, prazo de entrega, estoque de segurança e estoque máximo.
A5: 2. Na aba Movimentação, lance cada entrada (nota do fornecedor), saída (vendas),
A6: desperdício e ajuste de contagem.
A7: Escreva o Tipo como no cabeçalho: Entrada, Saída, Desperdício ou Ajuste.
A8: 3. A aba Insumos calcula sozinha o ponto de pedido, o estoque atual,
A9: a situação e a compra sugerida.
A10: Para um insumo novo, copie a última linha para baixo e troque o nome e os números.
A11: 4. Na aba Contagem, anote o que foi contado na prateleira.
A12: A diferença mostra quanto sumiu, em unidade e em reais.
... A25: Os números das abas são ilustrativos: exemplo de preenchimento, não dado de um restaurante.
